BEGIN:VCALENDAR
VERSION:2.0
PRODID:-//Richmond Tea Party - ECPv6.15.20//NONSGML v1.0//EN
CALSCALE:GREGORIAN
METHOD:PUBLISH
X-WR-CALNAME:Richmond Tea Party
X-ORIGINAL-URL:https://richmondteaparty.com
X-WR-CALDESC:Events for Richmond Tea Party
REFRESH-INTERVAL;VALUE=DURATION:PT1H
X-Robots-Tag:noindex
X-PUBLISHED-TTL:PT1H
BEGIN:VTIMEZONE
TZID:America/New_York
BEGIN:DAYLIGHT
TZOFFSETFROM:-0500
TZOFFSETTO:-0400
TZNAME:EDT
DTSTART:20170312T070000
END:DAYLIGHT
BEGIN:STANDARD
TZOFFSETFROM:-0400
TZOFFSETTO:-0500
TZNAME:EST
DTSTART:20171105T060000
END:STANDARD
BEGIN:DAYLIGHT
TZOFFSETFROM:-0500
TZOFFSETTO:-0400
TZNAME:EDT
DTSTART:20180311T070000
END:DAYLIGHT
BEGIN:STANDARD
TZOFFSETFROM:-0400
TZOFFSETTO:-0500
TZNAME:EST
DTSTART:20181104T060000
END:STANDARD
BEGIN:DAYLIGHT
TZOFFSETFROM:-0500
TZOFFSETTO:-0400
TZNAME:EDT
DTSTART:20190310T070000
END:DAYLIGHT
BEGIN:STANDARD
TZOFFSETFROM:-0400
TZOFFSETTO:-0500
TZNAME:EST
DTSTART:20191103T060000
END:STANDARD
BEGIN:DAYLIGHT
TZOFFSETFROM:-0500
TZOFFSETTO:-0400
TZNAME:EDT
DTSTART:20200308T070000
END:DAYLIGHT
BEGIN:STANDARD
TZOFFSETFROM:-0400
TZOFFSETTO:-0500
TZNAME:EST
DTSTART:20201101T060000
END:STANDARD
END:VTIMEZONE
BEGIN:VEVENT
DTSTART;TZID=America/New_York:20190709T090000
DTEND;TZID=America/New_York:20190709T170000
DTSTAMP:20260425T133914
CREATED:20190701T032520Z
LAST-MODIFIED:20190701T033645Z
UID:71750-1562662800-1562691600@richmondteaparty.com
SUMMARY:Total Attack on Your 2nd Amendment Rights Begins 7/9. Join us!
DESCRIPTION:Governor Northam has called a special session with the express purpose of futher restricting your 2nd amendment rights. This special session is being called in response to the recent shooting in Virginia Beach….a shooting where its been declared that the anti-rights proposals would have done nothing to stop it. Yes\, this special session is being called purely to take advantage of a crisis in order to strip more of your rights from you. \nThe Virginia Citizens Defense League (VCDL) is conducting lobbying efforts on opening day of the session\,  meeting with our General Assembly members to tell them we want no such new (ineffective) laws. Experience is not required\, only that you be willing to add your voice. Visit the rally website NOW to learn more\, to include info on schedule\, parking\, and car pool opportunities. \nVCDL Event Website \nWe encourage EVERYONE who values our rights and freedoms to help us push back against government authoritarians on July 9th.  \nClear your calendar and ask for the time off from work to ensure you’ll be available. \nFor the best information on this issue\, please visit the VCDL website\, but below is a glimpse of what’s being considered. Remember\, NONE of this would have had a bearing on the VA Beach incident. Don’t let political operatives\, acting in bad faith\, take away your rights. Come help be a part of the solution!\ \nFinally\, we encourage all of our supporters to ALSO join the VCDL. Things are getting scary out there for our rights\, and this group fights hard for YOU. \nProposed: \n\nRed Flag laws –  forget the unconstitutionality of this law\, no one thought the Virginia Beach murderer to be a threat\, so that law would have changed nothing\n\nUniversal Background Checks – the Virginia Beach murderer passed at least two background checks\, just like the Virginia Tech murderer.  And street thugs don’t go through background checks to get their guns\n\nOne Handgun a Month – the murderer bought the two handguns he used a year apart\, not even a month apart\n\n“Assault Weapon” ban – no “assault weapons” were used in the Virginia Beach massacre.  Long guns are rarely ever used in crime\n\nMagazine-capacity limits – the commission on the Virginia Tech massacre concluded that restricting magazine size would not have changed the outcome\n\nSilencer/suppressor ban – it is extremely rare that a lawfully owned suppressor is used in a crime.  They are not popular with criminals because 1) the gun shot is still loud and 2) it doubles the length of a handgun\, making it much more difficult to conceal\n\nBump-stock ban – bump stocks have only been used in one crime\, out in Nevada and there is no evidence that it increased the number of injuries or fatalities\n\nAllow local government to implement gun control (get rid of firearm pre-emption law) – the Virginia Beach government building was already a “gun-free zone.”  What are they going to do\, make it a double-gun-free-zone?  This legislation would make gun laws in Virginia extremely hard to comply with\, benefiting criminals\, who don’t care about laws\, and dissuading good people due to the complexities of carrying legally as they travel through the state\nPunish those who’ve had a gun stolen if they don’t report it quick enough – as if having your gun stolen isn’t bad enough\, you will get punished by the State if you don’t report it fast enough.  How do you prove you reported the theft within the arbitrary timeframe the law would require?\nCharge gun owners with a felony if a child has access to loaded gun – this includes a “child” who is a 17-year-old\, has broken into your locked house\, and found a loaded gun in your nightstand!  There have been many cases where someone under 18 has used a firearm to save their life during a home invasion.  That would get the parent a felony charge under this law.
URL:https://richmondteaparty.com/event/total-attack-on-your-2nd-amendment-rights-begins-7-9-join-us/
LOCATION:Virginia General Assembly\, 1000 Bank Street\, Richmond\, VA\, 23219\, United States
CATEGORIES:Rally
ATTACH;FMTTYPE=image/jpeg:https://richmondteaparty.com/wp-content/uploads/2019/06/VCDL7-9-web.jpg
END:VEVENT
BEGIN:VEVENT
DTSTART;TZID=America/New_York:20190303T150000
DTEND;TZID=America/New_York:20190303T180000
DTSTAMP:20260425T133914
CREATED:20190228T164201Z
LAST-MODIFIED:20190301T055502Z
UID:70891-1551625200-1551636000@richmondteaparty.com
SUMMARY:BLEXIT CONFERENCE RICHMOND: Statues vs. Governors
DESCRIPTION:‘BLEXIT’ Rally in Richmond Sunday!\n\n\n\n\n\n\nCandace Owens\, Dinesh D’Souza\, Will Witt\, and others coming to our neighborhood on Sunday for the next stop in the BLEXIT rally tour! This is not a RTP event\, but is an excellent opportunity to see these speakers in our own backyard. Hope to see you there! \n\n 
URL:https://richmondteaparty.com/event/blexit-conference-richmond-statues-vs-governors/
LOCATION:The National\, 708 E. Broad Street\, Richmond\, VA\, 23219\, United States
CATEGORIES:Rally
ATTACH;FMTTYPE=image/jpeg:https://richmondteaparty.com/wp-content/uploads/2019/02/blexitpic.jpg
ORGANIZER;CN="BLEXIT":MAILTO:BLEXITUSA@GMAIL.COM
END:VEVENT
BEGIN:VEVENT
DTSTART;TZID=America/New_York:20190223T150000
DTEND;TZID=America/New_York:20190223T160000
DTSTAMP:20260425T133914
CREATED:20190121T010415Z
LAST-MODIFIED:20190121T010546Z
UID:70829-1550934000-1550937600@richmondteaparty.com
SUMMARY:Abigail Spanberger Town Hall Event - Spotsylvania
DESCRIPTION:We encourage citizen participation in government. This is an opportunity to speak with Rep. Spanberger to voice your concerns. \nSpotsylvania County \nDate: Saturday\, February 23\, 2019\nTime: 3:00pm – 4:00pm EST\nLocation: Marshall Center\, 8802 Courthouse Rd.\, Spotsylvania\, VA 22553
URL:https://richmondteaparty.com/event/abigail-spanberger-town-hall-event-spotsylvania/
LOCATION:Marshall Center\, 8802 Courthouse Rd.\, Spotsylvania\, 22553\, United States
CATEGORIES:Town Hall
ATTACH;FMTTYPE=image/jpeg:https://richmondteaparty.com/wp-content/uploads/2018/02/Fotolia_104513665_S-WEB.jpg
END:VEVENT
BEGIN:VEVENT
DTSTART;TZID=America/New_York:20190219T180000
DTEND;TZID=America/New_York:20190219T190000
DTSTAMP:20260425T133914
CREATED:20190121T005935Z
LAST-MODIFIED:20190121T005935Z
UID:70822-1550599200-1550602800@richmondteaparty.com
SUMMARY:Abigail Spanberger Town Hall Event - Goochland
DESCRIPTION:We encourage citizen participation in government. This is an opportunity to speak with Rep. Spanberger to voice your concerns. \nGoochland County \nDate: Tuesday\, February 19\, 2019\nTime: 6:00pm – 7:00pm EST \nLocation: \nGoochland Recreational Center\n2415 Sandy Hook Road\nGoochland\, VA 23060
URL:https://richmondteaparty.com/event/abigail-spanberger-town-hall-event-goochland/
LOCATION:Goochland Recreational Center\, 2415 Sandy Hook Road\, Goochland\, VA\, 23060\, United States
CATEGORIES:Town Hall
ATTACH;FMTTYPE=image/jpeg:https://richmondteaparty.com/wp-content/uploads/2018/02/Fotolia_104513665_S-WEB.jpg
END:VEVENT
BEGIN:VEVENT
DTSTART;TZID=America/New_York:20190128T190000
DTEND;TZID=America/New_York:20190128T203000
DTSTAMP:20260425T133914
CREATED:20190120T212146Z
LAST-MODIFIED:20190120T212329Z
UID:70809-1548702000-1548707400@richmondteaparty.com
SUMMARY:Chesterfield County Republican Committee Meeting - Jan 2019
DESCRIPTION:For any Chesterfield County residents who want to get engaged in shaping the direction of their community\, we wanted to share that the Chesterfield Republican Committee is holding its January meeting on the 28th. Details below: \nChesterfield County Republican Committee Meeting\nMonday\, January 28\, 2019\nThomas Fulghum Conference Center\n13900 Hull Street Rd.\, Midlothian\, VA 23112\nI\, Tara C. Carroll\, Chair of the Chesterfield County Republican Committee\, do hereby issue this\nCall for a meeting of the Committee on January 28\, 2019\, beginning at 7:00 PM\, at the Thomas\nFulghum Conference Center\, located at 13900 Hull Street Rd.\, Midlothian\, VA 23112. \nTENTATIVE AGENDA \n\nSocial 6:30 PM\nMembership Meeting 7:00 PM\nInvocation\, Pledge of Allegiance and the Republican Creed\nRecognition of Elected Officials\nTreasurer’s Report\nOld Business\nNew Business\nEndorsement of James River Soil & Water Conservation Board Candidates\nSpeaker: Leslie Haley\, Board of Supervisors-Midlothian\nVoter Registration Presentation: Darcy Mathes\nAnnouncements\nFebruary 21\, 2019 Social/Volunteer Recruitment Event\nInduction of New Members:\nAdjournment\n\n————————————————————————————————————
URL:https://richmondteaparty.com/event/chesterfield-county-republican-committee-meeting-jan-2019/
LOCATION:Thomas Fulghum Conference Center\, 13900 Hull Street Rd\, Midlothian\, 23112\, United States
CATEGORIES:Meeting
ATTACH;FMTTYPE=image/jpeg:https://richmondteaparty.com/wp-content/uploads/2019/01/Fulghum-Center.jpg
END:VEVENT
BEGIN:VEVENT
DTSTART;TZID=America/New_York:20190121T080000
DTEND;TZID=America/New_York:20190121T120000
DTSTAMP:20260425T133914
CREATED:20190107T173339Z
LAST-MODIFIED:20190107T213734Z
UID:70765-1548057600-1548072000@richmondteaparty.com
SUMMARY:VCDL Lobby Day 2019
DESCRIPTION:To protect our Constitutional rights that are under assault\, please join us for the 2019 Lobby Day in downtown Richmond\, VA at the Capitol Bell Tower. The main rally is from 11-12:00\, while the larger lobbying effort is from 8-11:00. \nFor info\, see: Serious\, legitimate threats to your Constitutional rights inbound
URL:https://richmondteaparty.com/event/vcdl-lobby-day-2019/
LOCATION:Virginia General Assembly\, 1000 Bank Street\, Richmond\, VA\, 23219\, United States
CATEGORIES:Rally
ATTACH;FMTTYPE=image/jpeg:https://richmondteaparty.com/wp-content/uploads/2019/01/guncontrol.jpg
END:VEVENT
BEGIN:VEVENT
DTSTART;TZID=America/New_York:20181106T060000
DTEND;TZID=America/New_York:20181106T190000
DTSTAMP:20260425T133914
CREATED:20181006T063632Z
LAST-MODIFIED:20181006T063842Z
UID:70609-1541484000-1541530800@richmondteaparty.com
SUMMARY:Election Day 2018
DESCRIPTION:The fall election in 2018 is on Tuesday\, November 6th. Set your reminders now! \nCandidate lists and Referendums \n\n\n\n\n\n\n\n\n\n\n\n\n\n\n\n\nDEADLINE TO REGISTER: \nRegister to vote\, or update an existing registration by\nMonday\, October 15\, 2018ABSENTEE BALLOTS: \nRequest an absentee ballot to be mailed to you by\nTuesday\, October 30\, 2018\n(Your request must be received by the registrar by 5:00 pm) \nABSENTEE IN-PERSON: \nVisit your local registrar office (hours may vary) by\nSaturday\, November 3\, 2018 \nRegister to vote or apply for an absentee ballot online: https://www.elections.virginia.gov/citizen-portal/index.html
URL:https://richmondteaparty.com/event/election-day-2018/
LOCATION:VA
CATEGORIES:Election
ATTACH;FMTTYPE=image/jpeg:https://richmondteaparty.com/wp-content/uploads/2016/04/Fotolia_88935401_S-Web.jpg
END:VEVENT
BEGIN:VEVENT
DTSTART;TZID=America/New_York:20181009T190000
DTEND;TZID=America/New_York:20181009T190000
DTSTAMP:20260425T133914
CREATED:20181008T041204Z
LAST-MODIFIED:20181008T041204Z
UID:70615-1539111600-1539111600@richmondteaparty.com
SUMMARY:BARD Organizational Meeting Tuesday Oct 9th
DESCRIPTION:Bermuda Advocates for Responsible Development \n\n\n\n\n\n\nNEW COUNTY-WIDE CITIZENS GROUP IN CHESTERFIELD\n\n\n\n\n\n\n\n\n\n\n\n\n\n\n\n\n\n\n\n\n\nFORMATION OF A NEW COUNTY-WIDE CITIZENS ADVOCACY GROUP IN CHESTERFIELD \nAfter the recent negative experiences of many citizens with the Megasite proposed by Chesterfield County in the Bermuda District\, as well as other rezoning cases and issues\, members of the Bermuda Advocates for Responsible Development (BARD) are spearheading the creation of a new county-wide organization of homeowner associations\, citizens groups\, and individuals to advocate for greater communication\, transparency and accountability in our local government. \nAn organizational meeting will be held on Tuesday\, October 9\, 2018\, 7:00 p.m. at the Clover Hill Library\, 6701 Deer Run Dr.\, Midlothian\, VA 23112. PLEASE COME!! \nAt this organizational meeting\, we’ll discuss general organization\, leadership & structure\, mission and goals\, potential strategic initiatives\, and whatever else is brought to the table.  We’ll have a dedicated email address and a dedicated advocacy email mailing list.  You can join that mailing list here: app.muster.com/392/supporter-registration/  \nPurpose: The creation of a nonprofit\, nonpartisan\, and nonsectarian organization to advocate for the best interests of citizens in Chesterfield County. \nGoals: \na) Ensure that citizen concerns receive fair consideration during County government decision-making processes. \nb) Focus on County issues. \nc) Present a unified voice to the County particularly on the issues of transparency\, accountability\, and clear County communication. \nd) Build citizen awareness of County actions and the fiscal\, social\, and other impacts of those actions. \nMember Eligibility: Any citizen association organized and operated for nonprofit\, nonpartisan civic activity\, as well as individual citizens. \nContacts:  Mike Uzel – Email: uz*******@*****st.net Phone: 804-720-0937 (c) \nPhil Lohr – Email:  pl*****@***il.com \n~~~~~~~~~~~~~~~~~~~~~~~~~~~~~~~~~~~~~~~~~~~~~~~~~~ \nLearn more and stay informed about BARD \nOn the Web:  http://www.bit.ly/nomegasite  \nFacebook: https://www.facebook.com/matoacamegasite/ \nSupport the effort: https://www.gofundme.com/nomegasite
URL:https://richmondteaparty.com/event/bard-organizational-meeting-tuesday-oct-9th/
LOCATION:Clover Hill Library\, 6701 Deer Run Dr.\, Midlothian\, VA\, 23112\, United States
CATEGORIES:Meeting
ATTACH;FMTTYPE=image/jpeg:https://richmondteaparty.com/wp-content/uploads/2018/10/BARD-WordPress-Post-WEB.jpg
ORGANIZER;CN="Bermuda Advocates for Responsible Development":MAILTO:uzelsells@comcast.net
END:VEVENT
BEGIN:VEVENT
DTSTART;TZID=America/New_York:20180926T110000
DTEND;TZID=America/New_York:20180926T130000
DTSTAMP:20260425T133914
CREATED:20180831T175447Z
LAST-MODIFIED:20180831T175447Z
UID:70517-1537959600-1537966800@richmondteaparty.com
SUMMARY:Rally for the Republic in DC on September 26th!
DESCRIPTION:FreedomWorks Rally for the Republic on September 26th. Be there!\n\n\n\n\n\n\nWe haven’t been encouraging you to attend DC rallies in some time\, as we know you get burned out from the travel if executed too frequently. But we feel that THIS rally is an important one\, to show support for Rep. Jordan’s candidacy for speaker and Brett Kavanaugh for Supreme Court Justice. Congressmen Rand Paul\, Dave Brat\, Mark Meadows\, and Sen Ted Cruz will also be in attendance….what more reason do you need! \n>>>>We encourage all available tea party supporters to attend this event. RSVP Now!<<<<< \nFrom FreedomWorks: \n\n\n\nRally for the Republic featuring Reps. Jim Jordan\, Mark Meadows\, Dave Brat\, & Sen. Rand Paul\nWednesday\, September 26th from 11:00 AM – 1:00 PM\nUnited States Capitol (West Lawn)\nEast Capitol St. NE & First St. NW\nWashington\, DC 20004 Save \nFreedomWorks wants to flood the halls of Congress with the sound of your voice and make it perfectly clear to YOUR Members of Congress that YOU want conservative champion Jim Jordan as the next Speaker of the House and Judge Brett Kavanaugh on the Supreme Court! \nPlease RSVP right now to let us know you’re interested in coming. \nPS – More information will be provided as we get closer to the date.
URL:https://richmondteaparty.com/event/rally-for-the-republic-in-dc-on-september-26th/
LOCATION:United States Capitol (West Lawn)\, East Capitol St. NE & First St. NW\, Washington\, DC\, 20004\, United States
CATEGORIES:Rally
ATTACH;FMTTYPE=image/png:https://richmondteaparty.com/wp-content/uploads/2018/08/Rally4Republic2.png
END:VEVENT
BEGIN:VEVENT
DTSTART;TZID=America/New_York:20180922T091500
DTEND;TZID=America/New_York:20180922T160000
DTSTAMP:20260425T133914
CREATED:20180831T195915Z
LAST-MODIFIED:20180831T195915Z
UID:70523-1537607700-1537632000@richmondteaparty.com
SUMMARY:2018 Statewide Fall Summit and Conference
DESCRIPTION:
URL:https://richmondteaparty.com/event/2018-statewide-fall-summit-and-conference/
LOCATION:Delta Hotels Richmond Downtown\, 555 E. Canal St.\, Richmond\, VA\, 23219\, United States
CATEGORIES:Conference,Summit
ATTACH;FMTTYPE=image/jpeg:https://richmondteaparty.com/wp-content/uploads/2018/08/VTPPF-FallConference2017-048.jpg
ORGANIZER;CN="Virginia Tea Party (VATP)":MAILTO:events@vatp.org
END:VEVENT
END:VCALENDAR